BEGIN:VCALENDAR
VERSION:2.0
PRODID:-//Eventin//Event Calendar//EN
CALSCALE:GREGORIAN
METHOD:PUBLISH
BEGIN:VEVENT
UID:58f91aa60cfcdb30d681cdd193b4ef47@fm-unity.eu
SUMMARY:FM Unity Summit
DESCRIPTION:Fedezze fel az épületüzemeltetés kritikus kihívásaira –
  a munkaerőhiányra és a növekvő költségekre – adott valódi\, a gy
 akorlatban már bizonyított technológiai válaszainkat.\n\n \n\nIde katt
 intva jelentkezhet eseményünkre.
LOCATION:Budapest\, Hillside Offices
DTSTAMP:20260421T092514Z
DTSTART:20260423T070000Z
DTEND:20260423T110000Z
END:VEVENT
END:VCALENDAR
